BEGIN:VCALENDAR
VERSION:2.0
PRODID:SchoolNow
CALSCALE:GREGORIAN
BEGIN:VEVENT
UID:084d5568-7dd2-11f0-8b39-0a58a9feac02
DTSTAMP:20260128T200226Z
SUMMARY:CDD Board Meeting - Feb. 2026
LOCATION:Heritage Bay Clubhouse\, 10154 Heritage Bay Boulevard\, Naples Flo
 rida 34120
URL;VALUE=URI:https://www.heritagebaycdd.com/calendar/8524769/cdd-board-mee
 ting-feb-2026
DTSTART:20260205T140000Z
DTEND:20260205T150000Z
ATTACH;FILENAME=2026-02-05 Final Agenda Package Heritage Bay Regular Meetin
 g.pdf;FMTTYPE=application/pdf:https://campussuite-storage.s3.amazonaws.com
 /prod/1558971/ab11d46c-04b2-11ea-b620-1297eb943567/3064949/2cbf4c90-fc84-1
 1f0-bdc4-0a58a9feac02/file/2026-02-05 Final Agenda Package Heritage Bay Re
 gular Meeting.pdf
ATTACH;FILENAME=2026-02-05 Agenda as of 01-28.pdf;FMTTYPE=application/pdf:h
 ttps://campussuite-storage.s3.amazonaws.com/prod/1558971/ab11d46c-04b2-11e
 a-b620-1297eb943567/3064948/2cbf4b50-fc84-11f0-b2a7-0a58a9feac02/file/2026
 -02-05 Agenda as of 01-28.pdf
END:VEVENT
END:VCALENDAR
