BEGIN:VCALENDAR
VERSION:2.0
PRODID:SchoolNow
CALSCALE:GREGORIAN
BEGIN:VEVENT
UID:10c59836-7dd2-11f0-a3de-025850da6195
DTSTAMP:20260225T133249Z
SUMMARY:CDD Board Meeting - Mar. 2026
LOCATION:Heritage Bay Clubhouse\, 10154 Heritage Bay Boulevard\, Naples Flo
 rida 34120
URL;VALUE=URI:https://www.heritagebaycdd.com/calendar/8524770/cdd-board-mee
 ting-mar-2026
DTSTART:20260305T140000Z
DTEND:20260305T150000Z
ATTACH;FILENAME=2026-03-05 Agenda.pdf;FMTTYPE=application/pdf:https://campu
 ssuite-storage.s3.amazonaws.com/prod/1558971/ab11d46c-04b2-11ea-b620-1297e
 b943567/3074059/751fb918-124e-11f1-9e17-0affe7921747/file/2026-03-05 Agend
 a.pdf
ATTACH;FILENAME=2026-03-05 Final Agenda Package HB.pdf;FMTTYPE=application/
 pdf:https://campussuite-storage.s3.amazonaws.com/prod/1558971/ab11d46c-04b
 2-11ea-b620-1297eb943567/3074058/751f7f8e-124e-11f1-8c9d-0affe7921747/file
 /2026-03-05 Final Agenda Package HB.pdf
END:VEVENT
END:VCALENDAR
