BEGIN:VCALENDAR
VERSION:2.0
PRODID:SchoolNow
CALSCALE:GREGORIAN
BEGIN:VEVENT
UID:2011669e-7dd2-11f0-ac82-0a58a9feac02
DTSTAMP:20251029T125257Z
SUMMARY:CDD Board Meeting - May 2026
LOCATION:Heritage Bay Clubhouse\, 10154 Heritage Bay Boulevard\, Naples Flo
 rida 34120
URL;VALUE=URI:https://www.heritagebaycdd.com/calendar/8524773/cdd-board-mee
 ting-may-2026
DTSTART:20260514T130000Z
DTEND:20260514T140000Z
END:VEVENT
END:VCALENDAR
