BEGIN:VCALENDAR
VERSION:2.0
PRODID:SchoolNow
CALSCALE:GREGORIAN
BEGIN:VEVENT
UID:2feb924c-7dd2-11f0-985f-0a58a9feac02
DTSTAMP:20250820T143014Z
SUMMARY:CDD Board Meeting - Jun. 2026
LOCATION:Heritage Bay Clubhouse\, 10154 Heritage Bay Boulevard\, Naples Flo
 rida 34120
URL;VALUE=URI:https://www.heritagebaycdd.com/calendar/8524774/cdd-board-mee
 ting-jun-2026
DTSTART:20260604T130000Z
DTEND:20260604T140000Z
END:VEVENT
END:VCALENDAR
