BEGIN:VCALENDAR
VERSION:2.0
PRODID:SchoolNow
CALSCALE:GREGORIAN
BEGIN:VEVENT
UID:38bac4b0-7dd2-11f0-8dc8-0affe844e53d
DTSTAMP:20250820T143029Z
SUMMARY:CDD Board Meeting - Jul. 2026
LOCATION:Heritage Bay Clubhouse\, 10154 Heritage Bay Boulevard\, Naples Flo
 rida 34120
URL;VALUE=URI:https://www.heritagebaycdd.com/calendar/8524775/cdd-board-mee
 ting-jul-2026
DTSTART:20260702T130000Z
DTEND:20260702T140000Z
END:VEVENT
END:VCALENDAR
