BEGIN:VCALENDAR
VERSION:2.0
PRODID:SchoolNow
CALSCALE:GREGORIAN
BEGIN:VEVENT
UID:4200aee0-7dd2-11f0-b65f-0e5d3462789d
DTSTAMP:20250820T143045Z
SUMMARY:CDD Board Meeting - Aug. 2026
LOCATION:Heritage Bay Clubhouse\, 10154 Heritage Bay Boulevard\, Naples Flo
 rida 34120
URL;VALUE=URI:https://www.heritagebaycdd.com/calendar/8524776/cdd-board-mee
 ting-aug-2026
DTSTART:20260806T130000Z
DTEND:20260806T140000Z
END:VEVENT
END:VCALENDAR
