BEGIN:VCALENDAR
VERSION:2.0
PRODID:SchoolNow
CALSCALE:GREGORIAN
BEGIN:VEVENT
UID:4da487d0-7dd2-11f0-a6ac-0affc8c049ad
DTSTAMP:20250820T143104Z
SUMMARY:CDD Board Meeting - Sept. 2026
LOCATION:Heritage Bay Clubhouse\, 10154 Heritage Bay Boulevard\, Naples Flo
 rida 34120
URL;VALUE=URI:https://www.heritagebaycdd.com/calendar/8524777/cdd-board-mee
 ting-sept-2026
DTSTART:20260903T130000Z
DTEND:20260903T140000Z
END:VEVENT
END:VCALENDAR
